BEGIN:VCALENDAR
VERSION:2.0
PRODID:-//wp-events-plugin.com//7.2.3.1//EN
BEGIN:VEVENT
UID:11@oiotafamilyfoundation.org
DTSTART:20260527T000000Z
DTEND:20260527T000000Z
DTSTAMP:20260221T053005Z
URL:https://oiotafamilyfoundation.org/events/childrens-day-celebration-in-
 nigeria/
SUMMARY:Children’s Day Celebration in Nigeria
DESCRIPTION:Children’s Day Celebration in Nigeria
END:VEVENT
END:VCALENDAR