BEGIN:VCALENDAR
VERSION:2.0
PRODID:-//wp-events-plugin.com//7.2.3.1//EN
BEGIN:VEVENT
UID:21@oiotafamilyfoundation.org
DTSTART:20261203T000000Z
DTEND:20261203T000000Z
DTSTAMP:20260221T053906Z
URL:https://oiotafamilyfoundation.org/events/international-day-of-persons-
 with-disabilities/
SUMMARY:International Day of Persons with Disabilities
DESCRIPTION:International Day of Persons with Disabilities
END:VEVENT
END:VCALENDAR