BEGIN:VCALENDAR
VERSION:2.0
PRODID:-//wp-events-plugin.com//7.2.3.1//EN
BEGIN:VEVENT
UID:18@oiotafamilyfoundation.org
DTSTART:20261120T000000Z
DTEND:20261120T000000Z
DTSTAMP:20260221T053506Z
URL:https://oiotafamilyfoundation.org/events/universal-childrens-day/
SUMMARY:Universal Children’s Day
DESCRIPTION:Universal Children’s Day
END:VEVENT
END:VCALENDAR