BEGIN:VCALENDAR
VERSION:2.0
PRODID:-//wp-events-plugin.com//7.2.3.1//EN
BEGIN:VEVENT
UID:20@oiotafamilyfoundation.org
DTSTART:20261201T000000Z
DTEND:20261201T000000Z
DTSTAMP:20260221T053822Z
URL:https://oiotafamilyfoundation.org/events/world-aids-day/
SUMMARY:World AIDS Day
DESCRIPTION:World AIDS Day
END:VEVENT
END:VCALENDAR