BEGIN:VCALENDAR
VERSION:2.0
PRODID:-//wp-events-plugin.com//7.2.3.1//EN
BEGIN:VEVENT
UID:13@oiotafamilyfoundation.org
DTSTART:20260612T000000Z
DTEND:20260612T000000Z
DTSTAMP:20260221T053132Z
URL:https://oiotafamilyfoundation.org/events/world-day-against-child-labou
 r/
SUMMARY:World Day Against Child Labour
DESCRIPTION:World Day Against Child Labour
END:VEVENT
END:VCALENDAR