BEGIN:VCALENDAR
VERSION:2.0
PRODID:-//wp-events-plugin.com//7.2.3.1//EN
BEGIN:VEVENT
UID:22@oiotafamilyfoundation.org
DTSTART:20260605T000000Z
DTEND:20260605T000000Z
DTSTAMP:20260221T054418Z
URL:https://oiotafamilyfoundation.org/events/world-environment-day-great-a
 ngle-clean-water-sanitation-healthy-communities/
SUMMARY:World Environment Day (great angle: clean water\, sanitation\, heal
 thy communities)
DESCRIPTION:World Environment Day (great angle: clean water\, sanitation\, 
 healthy communities)
END:VEVENT
END:VCALENDAR