BEGIN:VCALENDAR
VERSION:2.0
PRODID:-//wp-events-plugin.com//7.2.3.1//EN
BEGIN:VEVENT
UID:10@oiotafamilyfoundation.org
DTSTART:20260425T000000Z
DTEND:20260425T000000Z
DTSTAMP:20260221T052921Z
URL:https://oiotafamilyfoundation.org/events/world-malaria-day/
SUMMARY:World Malaria Day
DESCRIPTION: World Malaria Day
END:VEVENT
END:VCALENDAR