BEGIN:VCALENDAR
VERSION:2.0
PRODID:-//wp-events-plugin.com//7.2.3.1//EN
BEGIN:VEVENT
UID:17@oiotafamilyfoundation.org
DTSTART:20261010T000000Z
DTEND:20261010T000000Z
DTSTAMP:20260221T053419Z
URL:https://oiotafamilyfoundation.org/events/world-mental-health-day/
SUMMARY:World Mental Health Day
DESCRIPTION:World Mental Health Day
END:VEVENT
END:VCALENDAR