BEGIN:VCALENDAR
VERSION:2.0
PRODID:-//wp-events-plugin.com//7.2.3.1//EN
BEGIN:VEVENT
UID:14@oiotafamilyfoundation.org
DTSTART:20260619T000000Z
DTEND:20260619T000000Z
DTSTAMP:20260221T053205Z
URL:https://oiotafamilyfoundation.org/events/world-sickle-cell-day/
SUMMARY:World Sickle Cell Day
DESCRIPTION: World Sickle Cell Day
END:VEVENT
END:VCALENDAR