BEGIN:VCALENDAR
VERSION:2.0
PRODID:-//wp-events-plugin.com//7.2.3.1//EN
BEGIN:VEVENT
UID:15@oiotafamilyfoundation.org
DTSTART:20260715T000000Z
DTEND:20260715T000000Z
DTSTAMP:20260221T053251Z
URL:https://oiotafamilyfoundation.org/events/world-youth-skills-day/
SUMMARY:World Youth Skills Day
DESCRIPTION:World Youth Skills Day
END:VEVENT
END:VCALENDAR